Package: standR Version: 1.11.1 Command: /home/biocbuild/bbs-3.21-bioc/R/bin/R CMD check --install=check:standR.install-out.txt --library=/home/biocbuild/bbs-3.21-bioc/R/site-library --timings standR_1.11.1.tar.gz StartedAt: 2025-02-01 03:02:01 -0500 (Sat, 01 Feb 2025) EndedAt: 2025-02-01 03:08:05 -0500 (Sat, 01 Feb 2025) EllapsedTime: 363.5 seconds RetCode: 0 Status: OK CheckDir: standR.Rcheck Warnings: 0