Package: ssviz Version: 1.41.0 Command: /home/biocbuild/R/R/bin/R CMD INSTALL ssviz StartedAt: 2025-01-29 19:53:45 -0000 (Wed, 29 Jan 2025) EndedAt: 2025-01-29 19:54:06 -0000 (Wed, 29 Jan 2025) EllapsedTime: 21.3 seconds RetCode: 0 Status: OK