Package: ssviz Version: 1.41.0 Command: /home/biocbuild/R/R/bin/R CMD build --keep-empty-dirs --no-resave-data ssviz StartedAt: 2025-01-28 02:45:25 -0000 (Tue, 28 Jan 2025) EndedAt: 2025-01-28 02:45:55 -0000 (Tue, 28 Jan 2025) EllapsedTime: 30.0 seconds RetCode: 0 Status: OK PackageFile: ssviz_1.41.0.tar.gz PackageFileSize: 1.146 MiB