Package: ssPATHS Version: 1.21.0 Command: /Library/Frameworks/R.framework/Resources/bin/R CMD check --install=check:ssPATHS.install-out.txt --library=/Library/Frameworks/R.framework/Resources/library --no-vignettes --timings ssPATHS_1.21.0.tar.gz StartedAt: 2025-01-31 21:39:31 -0500 (Fri, 31 Jan 2025) EndedAt: 2025-01-31 21:40:41 -0500 (Fri, 31 Jan 2025) EllapsedTime: 69.8 seconds RetCode: 0 Status: OK CheckDir: ssPATHS.Rcheck Warnings: 0