Package: splineTimeR Version: 1.35.0 Command: /home/biocbuild/bbs-3.21-bioc/R/bin/R CMD check --install=check:splineTimeR.install-out.txt --library=/home/biocbuild/bbs-3.21-bioc/R/site-library --timings splineTimeR_1.35.0.tar.gz StartedAt: 2025-02-01 02:55:34 -0500 (Sat, 01 Feb 2025) EndedAt: 2025-02-01 02:58:12 -0500 (Sat, 01 Feb 2025) EllapsedTime: 158.2 seconds RetCode: 0 Status: OK CheckDir: splineTimeR.Rcheck Warnings: 0