Package: spkTools Version: 1.63.0 Command: /Library/Frameworks/R.framework/Resources/bin/R CMD INSTALL spkTools StartedAt: 2025-01-31 15:09:04 -0500 (Fri, 31 Jan 2025) EndedAt: 2025-01-31 15:09:27 -0500 (Fri, 31 Jan 2025) EllapsedTime: 22.8 seconds RetCode: 0 Status: OK