Package: spkTools Version: 1.63.0 Command: /home/biocbuild/R/R/bin/R CMD INSTALL spkTools StartedAt: 2025-01-29 19:31:39 -0000 (Wed, 29 Jan 2025) EndedAt: 2025-01-29 19:32:10 -0000 (Wed, 29 Jan 2025) EllapsedTime: 30.1 seconds RetCode: 0 Status: OK