Package: spkTools Version: 1.63.0 Command: /Library/Frameworks/R.framework/Resources/bin/R CMD build --keep-empty-dirs --no-resave-data spkTools StartedAt: 2025-01-31 17:43:34 -0500 (Fri, 31 Jan 2025) EndedAt: 2025-01-31 17:43:40 -0500 (Fri, 31 Jan 2025) EllapsedTime: 6.1 seconds RetCode: 0 Status: OK PackageFile: spkTools_1.63.0.tar.gz PackageFileSize: 664.4 KiB