Package: spicyR Version: 1.19.3 Command: /Library/Frameworks/R.framework/Resources/bin/R CMD INSTALL spicyR StartedAt: 2025-01-31 15:28:17 -0500 (Fri, 31 Jan 2025) EndedAt: 2025-01-31 15:28:32 -0500 (Fri, 31 Jan 2025) EllapsedTime: 14.5 seconds RetCode: 0 Status: OK