Package: sparrow Version: 1.13.4 Command: /Library/Frameworks/R.framework/Resources/bin/R CMD INSTALL sparrow StartedAt: 2025-01-31 15:25:44 -0500 (Fri, 31 Jan 2025) EndedAt: 2025-01-31 15:26:28 -0500 (Fri, 31 Jan 2025) EllapsedTime: 43.6 seconds RetCode: 0 Status: OK