Package: sparrow Version: 1.13.4 Command: /Library/Frameworks/R.framework/Resources/bin/R CMD check --install=check:sparrow.install-out.txt --library=/Library/Frameworks/R.framework/Resources/library --no-vignettes --timings sparrow_1.13.4.tar.gz StartedAt: 2025-01-31 23:14:02 -0500 (Fri, 31 Jan 2025) EndedAt: 2025-01-31 23:24:21 -0500 (Fri, 31 Jan 2025) EllapsedTime: 618.8 seconds RetCode: 0 Status: OK CheckDir: sparrow.Rcheck Warnings: 0