Package: sparrow Version: 1.13.4 Command: /Library/Frameworks/R.framework/Resources/bin/R CMD INSTALL sparrow StartedAt: 2025-01-31 15:17:05 -0500 (Fri, 31 Jan 2025) EndedAt: 2025-01-31 15:17:18 -0500 (Fri, 31 Jan 2025) EllapsedTime: 12.5 seconds RetCode: 0 Status: OK