Package: sparrow Version: 1.13.4 Command: /Library/Frameworks/R.framework/Resources/bin/R CMD build --keep-empty-dirs --no-resave-data sparrow StartedAt: 2025-01-31 17:41:23 -0500 (Fri, 31 Jan 2025) EndedAt: 2025-01-31 17:43:18 -0500 (Fri, 31 Jan 2025) EllapsedTime: 115.2 seconds RetCode: 0 Status: OK PackageFile: sparrow_1.13.4.tar.gz PackageFileSize: 4.215 MiB