Package: spaSim Version: 1.9.0 Command: /home/biocbuild/bbs-3.21-bioc/R/bin/R CMD build --keep-empty-dirs --no-resave-data spaSim StartedAt: 2025-01-31 19:23:59 -0500 (Fri, 31 Jan 2025) EndedAt: 2025-01-31 19:25:41 -0500 (Fri, 31 Jan 2025) EllapsedTime: 102.1 seconds RetCode: 0 Status: OK PackageFile: spaSim_1.9.0.tar.gz PackageFileSize: 3.439 MiB