Package: spaSim Version: 1.9.0 Command: /home/biocbuild/R/R/bin/R CMD INSTALL spaSim StartedAt: 2025-01-29 19:49:36 -0000 (Wed, 29 Jan 2025) EndedAt: 2025-01-29 19:50:10 -0000 (Wed, 29 Jan 2025) EllapsedTime: 34.0 seconds RetCode: 0 Status: OK