Package: soGGi Version: 1.39.0 Command: rm -rf soGGi.buildbin-libdir && mkdir soGGi.buildbin-libdir && E:\biocbuild\bbs-3.21-bioc\R\bin\R.exe CMD INSTALL --build --library=soGGi.buildbin-libdir soGGi_1.39.0.tar.gz StartedAt: 2025-02-01 08:17:51 -0500 (Sat, 01 Feb 2025) EndedAt: 2025-02-01 08:18:48 -0500 (Sat, 01 Feb 2025) EllapsedTime: 57.5 seconds RetCode: 0 Status: OK PackageFile: soGGi_1.39.0.zip PackageFileSize: 3.439 MiB