Package: snpStats Version: 1.57.0 Command: /Library/Frameworks/R.framework/Resources/bin/R CMD check --install=check:snpStats.install-out.txt --library=/Library/Frameworks/R.framework/Resources/library --no-vignettes --timings snpStats_1.57.0.tar.gz StartedAt: 2025-01-21 23:42:59 -0500 (Tue, 21 Jan 2025) EndedAt: 2025-01-21 23:44:23 -0500 (Tue, 21 Jan 2025) EllapsedTime: 83.3 seconds RetCode: 0 Status: WARNINGS CheckDir: snpStats.Rcheck Warnings: 2