Package: snpStats Version: 1.57.0 Command: /Library/Frameworks/R.framework/Resources/bin/R CMD build --keep-empty-dirs --no-resave-data snpStats StartedAt: 2025-01-31 18:20:20 -0500 (Fri, 31 Jan 2025) EndedAt: 2025-01-31 18:21:07 -0500 (Fri, 31 Jan 2025) EllapsedTime: 46.6 seconds RetCode: 1 Status: ERROR PackageFile: None PackageFileSize: NA