Package: snm Version: 1.55.0 Command: E:\biocbuild\bbs-3.21-bioc\R\bin\R.exe CMD check --no-multiarch --install=check:snm.install-out.txt --library=E:\biocbuild\bbs-3.21-bioc\R\library --no-vignettes --timings snm_1.55.0.tar.gz StartedAt: 2025-02-01 05:15:35 -0500 (Sat, 01 Feb 2025) EndedAt: 2025-02-01 05:20:43 -0500 (Sat, 01 Feb 2025) EllapsedTime: 307.6 seconds RetCode: 0 Status: OK CheckDir: snm.Rcheck Warnings: 0