Package: snm Version: 1.55.0 Command: /Library/Frameworks/R.framework/Resources/bin/R CMD check --install=check:snm.install-out.txt --library=/Library/Frameworks/R.framework/Resources/library --no-vignettes --timings snm_1.55.0.tar.gz StartedAt: 2025-01-31 23:12:16 -0500 (Fri, 31 Jan 2025) EndedAt: 2025-01-31 23:17:56 -0500 (Fri, 31 Jan 2025) EllapsedTime: 340.4 seconds RetCode: 0 Status: OK CheckDir: snm.Rcheck Warnings: 0