Package: slalom Version: 1.29.0 Command: chmod a+r slalom -R && E:\biocbuild\bbs-3.21-bioc\R\bin\R.exe CMD build --keep-empty-dirs --no-resave-data slalom StartedAt: 2025-01-31 21:29:36 -0500 (Fri, 31 Jan 2025) EndedAt: 2025-01-31 21:31:23 -0500 (Fri, 31 Jan 2025) EllapsedTime: 107.2 seconds RetCode: 0 Status: OK PackageFile: slalom_1.29.0.tar.gz PackageFileSize: 17.42 MiB