Package: slalom Version: 1.29.0 Command: rm -rf slalom.buildbin-libdir && mkdir slalom.buildbin-libdir && E:\biocbuild\bbs-3.21-bioc\R\bin\R.exe CMD INSTALL --build --library=slalom.buildbin-libdir slalom_1.29.0.tar.gz StartedAt: 2025-02-01 08:16:56 -0500 (Sat, 01 Feb 2025) EndedAt: 2025-02-01 08:18:08 -0500 (Sat, 01 Feb 2025) EllapsedTime: 71.7 seconds RetCode: 0 Status: OK PackageFile: slalom_1.29.0.zip PackageFileSize: 18.42 MiB