Package: skewr Version: 1.39.0 Command: E:\biocbuild\bbs-3.21-bioc\R\bin\R.exe CMD check --no-multiarch --install=check:skewr.install-out.txt --library=E:\biocbuild\bbs-3.21-bioc\R\library --no-vignettes --timings skewr_1.39.0.tar.gz StartedAt: 2025-02-01 05:12:54 -0500 (Sat, 01 Feb 2025) EndedAt: 2025-02-01 05:19:20 -0500 (Sat, 01 Feb 2025) EllapsedTime: 386.7 seconds RetCode: 0 Status: OK CheckDir: skewr.Rcheck Warnings: 0