Package: skewr Version: 1.39.0 Command: rm -rf skewr.buildbin-libdir && mkdir skewr.buildbin-libdir && /Users/biocbuild/BBS/utils/build-universal.sh skewr_1.39.0.tar.gz /Library/Frameworks/R.framework/Resources/bin/R skewr.buildbin-libdir StartedAt: 2025-02-01 00:40:18 -0500 (Sat, 01 Feb 2025) EndedAt: 2025-02-01 00:41:30 -0500 (Sat, 01 Feb 2025) EllapsedTime: 71.6 seconds RetCode: 0 Status: OK PackageFile: skewr_1.39.0.tgz PackageFileSize: 760.3 KiB