Package: sketchR Version: 1.3.0 Command: /home/biocbuild/R/R/bin/R CMD INSTALL sketchR StartedAt: 2025-01-29 19:43:37 -0000 (Wed, 29 Jan 2025) EndedAt: 2025-01-29 19:43:57 -0000 (Wed, 29 Jan 2025) EllapsedTime: 20.3 seconds RetCode: 0 Status: OK