Package: sizepower Version: 1.77.0 Command: chmod a+r sizepower -R && E:\biocbuild\bbs-3.21-bioc\R\bin\R.exe CMD build --keep-empty-dirs --no-resave-data sizepower StartedAt: 2025-01-31 21:29:25 -0500 (Fri, 31 Jan 2025) EndedAt: 2025-01-31 21:29:35 -0500 (Fri, 31 Jan 2025) EllapsedTime: 9.7 seconds RetCode: 0 Status: OK PackageFile: sizepower_1.77.0.tar.gz PackageFileSize: 175.4 KiB