Package: sizepower Version: 1.77.0 Command: /home/biocbuild/R/R/bin/R CMD check --install=check:sizepower.install-out.txt --library=/home/biocbuild/R/R/site-library --no-vignettes --timings sizepower_1.77.0.tar.gz StartedAt: 2025-01-28 15:26:01 -0000 (Tue, 28 Jan 2025) EndedAt: 2025-01-28 15:26:16 -0000 (Tue, 28 Jan 2025) EllapsedTime: 15.0 seconds RetCode: 0 Status: OK CheckDir: sizepower.Rcheck Warnings: 0