Package: sizepower Version: 1.77.0 Command: /home/biocbuild/R/R/bin/R CMD build --keep-empty-dirs --no-resave-data sizepower StartedAt: 2025-01-29 02:25:30 -0000 (Wed, 29 Jan 2025) EndedAt: 2025-01-29 02:25:36 -0000 (Wed, 29 Jan 2025) EllapsedTime: 6.0 seconds RetCode: 0 Status: OK PackageFile: sizepower_1.77.0.tar.gz PackageFileSize: 295.2 KiB