Package: signatureSearch Version: 1.21.0 Command: /home/biocbuild/bbs-3.21-bioc/R/bin/R CMD build --keep-empty-dirs --no-resave-data signatureSearch StartedAt: 2025-01-31 19:18:57 -0500 (Fri, 31 Jan 2025) EndedAt: 2025-01-31 19:32:55 -0500 (Fri, 31 Jan 2025) EllapsedTime: 838.0 seconds RetCode: 0 Status: OK PackageFile: signatureSearch_1.21.0.tar.gz PackageFileSize: 5.222 MiB