Package: shinyMethyl Version: 1.43.0 Command: /home/biocbuild/bbs-3.21-bioc/R/bin/R CMD build --keep-empty-dirs --no-resave-data shinyMethyl StartedAt: 2025-01-31 19:18:08 -0500 (Fri, 31 Jan 2025) EndedAt: 2025-01-31 19:19:15 -0500 (Fri, 31 Jan 2025) EllapsedTime: 66.1 seconds RetCode: 0 Status: OK PackageFile: shinyMethyl_1.43.0.tar.gz PackageFileSize: 7.24 MiB