Package: sesame Version: 1.25.3 Command: /home/biocbuild/R/R/bin/R CMD INSTALL sesame StartedAt: 2025-01-29 19:52:57 -0000 (Wed, 29 Jan 2025) EndedAt: 2025-01-29 19:53:44 -0000 (Wed, 29 Jan 2025) EllapsedTime: 47.5 seconds RetCode: 0 Status: OK