Package: sesame Version: 1.25.3 Command: /home/biocbuild/R/R/bin/R CMD build --keep-empty-dirs --no-resave-data sesame StartedAt: 2025-01-29 02:19:14 -0000 (Wed, 29 Jan 2025) EndedAt: 2025-01-29 02:26:15 -0000 (Wed, 29 Jan 2025) EllapsedTime: 420.5 seconds RetCode: 0 Status: OK PackageFile: sesame_1.25.3.tar.gz PackageFileSize: 16.71 MiB