Package: seqsetvis Version: 1.27.2 Command: E:\biocbuild\bbs-3.21-bioc\R\bin\R.exe CMD INSTALL seqsetvis StartedAt: 2025-01-31 15:55:31 -0500 (Fri, 31 Jan 2025) EndedAt: 2025-01-31 15:56:57 -0500 (Fri, 31 Jan 2025) EllapsedTime: 86.1 seconds RetCode: 0 Status: OK