Package: seqPattern Version: 1.39.0 Command: /home/biocbuild/R/R/bin/R CMD build --keep-empty-dirs --no-resave-data seqPattern StartedAt: 2025-01-29 02:18:33 -0000 (Wed, 29 Jan 2025) EndedAt: 2025-01-29 02:19:16 -0000 (Wed, 29 Jan 2025) EllapsedTime: 43.0 seconds RetCode: 0 Status: OK PackageFile: seqPattern_1.39.0.tar.gz PackageFileSize: 5.353 MiB