Package: seqCAT Version: 1.29.0 Command: /Library/Frameworks/R.framework/Resources/bin/R CMD INSTALL seqCAT StartedAt: 2025-01-31 15:42:45 -0500 (Fri, 31 Jan 2025) EndedAt: 2025-01-31 15:43:33 -0500 (Fri, 31 Jan 2025) EllapsedTime: 48.6 seconds RetCode: 0 Status: OK