Package: seqCAT Version: 1.29.0 Command: rm -rf seqCAT.buildbin-libdir && mkdir seqCAT.buildbin-libdir && /Users/biocbuild/BBS/utils/build-universal.sh seqCAT_1.29.0.tar.gz /Library/Frameworks/R.framework/Resources/bin/R seqCAT.buildbin-libdir StartedAt: 2025-01-31 22:32:33 -0500 (Fri, 31 Jan 2025) EndedAt: 2025-01-31 22:32:50 -0500 (Fri, 31 Jan 2025) EllapsedTime: 16.4 seconds RetCode: 0 Status: OK PackageFile: seqCAT_1.29.0.tgz PackageFileSize: 1.959 MiB