Package: seq2pathway Version: 1.39.0 Command: /Library/Frameworks/R.framework/Resources/bin/R CMD INSTALL seq2pathway StartedAt: 2025-01-31 15:34:20 -0500 (Fri, 31 Jan 2025) EndedAt: 2025-01-31 15:34:50 -0500 (Fri, 31 Jan 2025) EllapsedTime: 30.4 seconds RetCode: 0 Status: OK