Package: seq.hotSPOT Version: 1.7.0 Command: /Library/Frameworks/R.framework/Resources/bin/R CMD INSTALL seq.hotSPOT StartedAt: 2025-01-31 15:10:44 -0500 (Fri, 31 Jan 2025) EndedAt: 2025-01-31 15:11:07 -0500 (Fri, 31 Jan 2025) EllapsedTime: 23.5 seconds RetCode: 0 Status: OK