Package: segmenter Version: 1.13.0 Command: /home/biocbuild/bbs-3.21-bioc/R/bin/R CMD INSTALL segmenter StartedAt: 2025-01-31 15:46:56 -0500 (Fri, 31 Jan 2025) EndedAt: 2025-01-31 15:47:38 -0500 (Fri, 31 Jan 2025) EllapsedTime: 42.2 seconds RetCode: 0 Status: OK