Package: segmenter Version: 1.13.0 Command: /home/biocbuild/bbs-3.21-bioc/R/bin/R CMD build --keep-empty-dirs --no-resave-data segmenter StartedAt: 2025-01-31 19:15:14 -0500 (Fri, 31 Jan 2025) EndedAt: 2025-01-31 19:22:18 -0500 (Fri, 31 Jan 2025) EllapsedTime: 423.5 seconds RetCode: 0 Status: OK PackageFile: segmenter_1.13.0.tar.gz PackageFileSize: 3.983 MiB