Package: segmentSeq Version: 2.41.1 Command: E:\biocbuild\bbs-3.21-bioc\R\bin\R.exe CMD INSTALL segmentSeq StartedAt: 2025-01-31 16:20:31 -0500 (Fri, 31 Jan 2025) EndedAt: 2025-01-31 16:21:35 -0500 (Fri, 31 Jan 2025) EllapsedTime: 63.9 seconds RetCode: 0 Status: OK