Package: segmentSeq Version: 2.41.1 Command: /home/biocbuild/bbs-3.21-bioc/R/bin/R CMD build --keep-empty-dirs --no-resave-data segmentSeq StartedAt: 2025-01-31 19:15:17 -0500 (Fri, 31 Jan 2025) EndedAt: 2025-01-31 19:17:48 -0500 (Fri, 31 Jan 2025) EllapsedTime: 151.2 seconds RetCode: 0 Status: OK PackageFile: segmentSeq_2.41.1.tar.gz PackageFileSize: 3.044 MiB