Package: seahtrue Version: 1.1.0 Command: /Library/Frameworks/R.framework/Resources/bin/R CMD INSTALL seahtrue StartedAt: 2025-01-31 15:18:13 -0500 (Fri, 31 Jan 2025) EndedAt: 2025-01-31 15:18:28 -0500 (Fri, 31 Jan 2025) EllapsedTime: 14.8 seconds RetCode: 0 Status: OK