Package: seahtrue Version: 1.1.0 Command: /home/biocbuild/R/R/bin/R CMD INSTALL seahtrue StartedAt: 2025-01-29 19:58:20 -0000 (Wed, 29 Jan 2025) EndedAt: 2025-01-29 19:58:30 -0000 (Wed, 29 Jan 2025) EllapsedTime: 10.5 seconds RetCode: 0 Status: OK