Package: scuttle Version: 1.17.0 Command: E:\biocbuild\bbs-3.21-bioc\R\bin\R.exe CMD INSTALL scuttle StartedAt: 2025-01-31 15:55:58 -0500 (Fri, 31 Jan 2025) EndedAt: 2025-01-31 15:57:31 -0500 (Fri, 31 Jan 2025) EllapsedTime: 92.5 seconds RetCode: 0 Status: OK