Package: scuttle Version: 1.17.0 Command: rm -rf scuttle.buildbin-libdir && mkdir scuttle.buildbin-libdir && E:\biocbuild\bbs-3.21-bioc\R\bin\R.exe CMD INSTALL --build --library=scuttle.buildbin-libdir scuttle_1.17.0.tar.gz StartedAt: 2025-02-01 08:12:20 -0500 (Sat, 01 Feb 2025) EndedAt: 2025-02-01 08:13:55 -0500 (Sat, 01 Feb 2025) EllapsedTime: 95.2 seconds RetCode: 0 Status: OK PackageFile: scuttle_1.17.0.zip PackageFileSize: 1.586 MiB