Package: scruff Version: 1.25.0 Command: rm -rf scruff.buildbin-libdir && mkdir scruff.buildbin-libdir && E:\biocbuild\bbs-3.21-bioc\R\bin\R.exe CMD INSTALL --build --library=scruff.buildbin-libdir scruff_1.25.0.tar.gz StartedAt: 2025-02-01 08:12:03 -0500 (Sat, 01 Feb 2025) EndedAt: 2025-02-01 08:13:16 -0500 (Sat, 01 Feb 2025) EllapsedTime: 73.0 seconds RetCode: 0 Status: OK PackageFile: scruff_1.25.0.zip PackageFileSize: 2.959 MiB