Package: scran Version: 1.35.0 Command: chmod a+r scran -R && E:\biocbuild\bbs-3.21-bioc\R\bin\R.exe CMD build --keep-empty-dirs --no-resave-data scran StartedAt: 2025-02-02 21:27:22 -0500 (Sun, 02 Feb 2025) EndedAt: 2025-02-02 21:32:18 -0500 (Sun, 02 Feb 2025) EllapsedTime: 295.4 seconds RetCode: 0 Status: OK PackageFile: scran_1.35.0.tar.gz PackageFileSize: 1.01 MiB