Package: scider Version: 1.5.0 Command: /home/biocbuild/R/R/bin/R CMD INSTALL scider StartedAt: 2025-01-29 20:29:25 -0000 (Wed, 29 Jan 2025) EndedAt: 2025-01-29 20:30:03 -0000 (Wed, 29 Jan 2025) EllapsedTime: 37.5 seconds RetCode: 0 Status: OK