Package: scds Version: 1.23.0 Command: /Library/Frameworks/R.framework/Resources/bin/R CMD check --install=check:scds.install-out.txt --library=/Library/Frameworks/R.framework/Resources/library --no-vignettes --timings scds_1.23.0.tar.gz StartedAt: 2025-01-31 22:52:46 -0500 (Fri, 31 Jan 2025) EndedAt: 2025-01-31 22:55:48 -0500 (Fri, 31 Jan 2025) EllapsedTime: 182.6 seconds RetCode: 0 Status: OK CheckDir: scds.Rcheck Warnings: 0